BEGIN:VCALENDAR
VERSION:2.0
PRODID:-//wp-events-plugin.com//7.2.3.1//EN
TZID:America/Denver
X-WR-TIMEZONE:America/Denver
BEGIN:VEVENT
UID:1-18238@libarts.colostate.edu
DTSTART;TZID=America/Denver:20240411T170000
DTEND;TZID=America/Denver:20240411T190000
DTSTAMP:20240307T195746Z
URL:https://www.libarts.colostate.edu/events/viewing-of-join-or-die/
SUMMARY:Screening of Join or Die
DESCRIPTION:The Lyric Cinema\n5 – 7 pm\nDr. Robert Putnam coined the phra
 se “social capital.” This documentary covers the ways in which our cou
 ntry is declining in our social capital because we join organizations less
  than we used to. Based on Putnam’s book\, Bowling Alone: The Collapse 
 and Revival of American Community.\n\nReception after film. 6:45 – 7:15 
 pm\nIncludes soft drinks and light snacks.\n\nWatch the trailer: https://
 www.youtube.com/watch?v=4oDVf8sOG9w\n\nFree and open to the public. RSVP r
 equired. RSVP at https://www.lyriccinema.com/movie/join-or-die
ATTACH;FMTTYPE=image/jpeg:https://www.libarts.colostate.edu/wp-content/upl
 oads/2024/03/Join-or-Die-1-e1709841454422.png
CATEGORIES:College of Liberal Arts Featured Events,Dean's Office
 Events,Democracy and Civic Engagement
LOCATION:Lyric Cinema\, 1209 N College Ave\, Fort Collins\, 80524\, United 
 States
GEO:40.602544;-105.077199
X-APPLE-STRUCTURED-LOCATION;VALUE=URI;X-ADDRESS=1209 N College Ave\, Fort C
 ollins\, 80524\, United States;X-APPLE-RADIUS=100;X-TITLE=Lyric Cinema:geo
 :40.602544,-105.077199
END:VEVENT
BEGIN:VTIMEZONE
TZID:America/Denver
X-LIC-LOCATION:America/Denver
BEGIN:DAYLIGHT
DTSTART:20240310T030000
TZOFFSETFROM:-0700
TZOFFSETTO:-0600
TZNAME:MDT
END:DAYLIGHT
END:VTIMEZONE
END:VCALENDAR