BEGIN:VCALENDAR
VERSION:2.0
PRODID:-//wp-events-plugin.com//7.2.3.1//EN
TZID:America/Denver
X-WR-TIMEZONE:America/Denver
BEGIN:VEVENT
UID:1-18661@libarts.colostate.edu
DTSTART;TZID=America/Denver:20241113T180000
DTEND;TZID=America/Denver:20241113T190000
DTSTAMP:20241111T220807Z
URL:https://www.libarts.colostate.edu/events/scholarship-info-session-nov/
SUMMARY:Scholarship Info Session
DESCRIPTION:Learn everything you need to know about applying for scholarshi
 ps using the CSU Scholarship Application (CSUSA) as a College of Liberal A
 rts student.\n\nAvailable Times and Locations:\n\n 	\nWednesday\, October 
 23\, 6-7 PM\, Eddy 104\n 	\nWednesday\, November 13\, 6-7 PM\, BSB room 10
 5\n 	\nWednesday\, December 11\, 6-7 PM\, Visual Arts Building room F111\n
  	\nWednesday\, January 22\, 6-7 PM\, UCA room G116 (Cindy Boomer Hall B)\
 n 	\nWednesday\, February 12\, 6-7 PM\, Clark C140\n\nQuestions?\nContact 
 Abby Jaroszewicz at cla_scholarships@colostate.edu.
CATEGORIES:College of Liberal Arts Featured Events,Dean's Office Events
LOCATION:BSB 105\, Behavioral Sciences Building\, Colorado State University
 \, Fort Collins\, CO\, United States
GEO:40.5747751;-105.0807072
X-APPLE-STRUCTURED-LOCATION;VALUE=URI;X-ADDRESS=Colorado State University\,
  Fort Collins\, CO\, United States;X-APPLE-RADIUS=100;X-TITLE=BSB 105\, Be
 havioral Sciences Building:geo:40.5747751,-105.0807072
END:VEVENT
BEGIN:VTIMEZONE
TZID:America/Denver
X-LIC-LOCATION:America/Denver
BEGIN:STANDARD
DTSTART:20241103T010000
TZOFFSETFROM:-0600
TZOFFSETTO:-0700
TZNAME:MST
END:STANDARD
END:VTIMEZONE
END:VCALENDAR