BEGIN:VCALENDAR
VERSION:2.0
PRODID:-//wp-events-plugin.com//7.2.3.1//EN
TZID:America/Denver
X-WR-TIMEZONE:America/Denver
BEGIN:VEVENT
UID:1-18664@libarts.colostate.edu
DTSTART;TZID=America/Denver:20250212T180000
DTEND;TZID=America/Denver:20250212T190000
DTSTAMP:20250213T174556Z
URL:https://www.libarts.colostate.edu/events/scholarship-info-session-feb/
SUMMARY:Scholarship Info Session
DESCRIPTION:Learn everything you need to know about applying for scholarshi
 ps using the CSU Scholarship Application (CSUSA) as a College of Liberal A
 rts student.\n\nAvailable Times and Locations:\n\n 	Wednesday\, October 23
 \, 6-7 PM\, Eddy 104\n 	Wednesday\, November 13\, 6-7 PM\, BSB room 105\n 
 	Wednesday\, December 11\, 6-7 PM\, Visual Arts Building room F111\n 	Wedn
 esday\, January 22\, 6-7 PM\, UCA room G116 (Cindy Boomer Hall B)\n 	Wedne
 sday\, February 12\, 6-7 PM\, Clark C140\n\nQuestions?\nContact Abby Jaros
 zewicz at cla_scholarships@colostate.edu.
ATTACH;FMTTYPE=image/jpeg:https://www.libarts.colostate.edu/wp-content/upl
 oads/2024/10/instagram-post-all-dates.png
CATEGORIES:College of Liberal Arts Featured Events,Dean's Office Events
LOCATION:Clark C140\, Colorado State University\, Fort Collins\, Fort Colli
 ns\, 80521\, United States
X-APPLE-STRUCTURED-LOCATION;VALUE=URI;X-ADDRESS=Colorado State University\,
  Fort Collins\, Fort Collins\, 80521\, United States;X-APPLE-RADIUS=100;X-
 TITLE=Clark C140:geo:0,0
END:VEVENT
BEGIN:VTIMEZONE
TZID:America/Denver
X-LIC-LOCATION:America/Denver
BEGIN:STANDARD
DTSTART:20241103T010000
TZOFFSETFROM:-0600
TZOFFSETTO:-0700
TZNAME:MST
END:STANDARD
END:VTIMEZONE
END:VCALENDAR