BEGIN:VCALENDAR
VERSION:2.0
PRODID:-//wp-events-plugin.com//7.2.3.1//EN
TZID:America/Denver
X-WR-TIMEZONE:America/Denver
BEGIN:VEVENT
UID:1-18662@libarts.colostate.edu
DTSTART;TZID=America/Denver:20241211T180000
DTEND;TZID=America/Denver:20241211T190000
DTSTAMP:20241111T220853Z
URL:https://www.libarts.colostate.edu/events/scholarship-info-dec/
SUMMARY:Scholarship Info Session
DESCRIPTION:Learn everything you need to know about applying for scholarshi
 ps using the CSU Scholarship Application (CSUSA) as a College of Liberal A
 rts student.\n\nAvailable Times and Locations:\n\n 	Wednesday\, October 23
 \, 6-7 PM\, Eddy 104\n 	Wednesday\, November 13\, 6-7 PM\, BSB room 105\n 
 	Wednesday\, December 11\, 6-7 PM\, Visual Arts Building room F111\n 	Wedn
 esday\, January 22\, 6-7 PM\, UCA room G116 (Cindy Boomer Hall B)\n 	Wedne
 sday\, February 12\, 6-7 PM\, Clark C140\n\nQuestions?\nContact Abby Jaros
 zewicz at cla_scholarships@colostate.edu.
CATEGORIES:College of Liberal Arts Featured Events,Dean's Office Events
LOCATION:Visual Arts Building\, 551 W Pitkin Street\, Fort Collins\, CO\, 8
 0523-1770\, United States
GEO:40.569091;-105.079255
X-APPLE-STRUCTURED-LOCATION;VALUE=URI;X-ADDRESS=551 W Pitkin Street\, Fort 
 Collins\, CO\, 80523-1770\, United States;X-APPLE-RADIUS=100;X-TITLE=Visua
 l Arts Building:geo:40.569091,-105.079255
END:VEVENT
BEGIN:VTIMEZONE
TZID:America/Denver
X-LIC-LOCATION:America/Denver
BEGIN:STANDARD
DTSTART:20241103T010000
TZOFFSETFROM:-0600
TZOFFSETTO:-0700
TZNAME:MST
END:STANDARD
END:VTIMEZONE
END:VCALENDAR