BEGIN:VCALENDAR
VERSION:2.0
PRODID:-//wp-events-plugin.com//7.2.3.1//EN
TZID:America/Denver
X-WR-TIMEZONE:America/Denver
BEGIN:VEVENT
UID:1-14660@libarts.colostate.edu
DTSTART;TZID=America/Denver:20191022T163000
DTEND;TZID=America/Denver:20191022T190000
DTSTAMP:20191009T215011Z
URL:https://www.libarts.colostate.edu/events/reclaiming-democracy/
SUMMARY:Reclaiming Democracy
DESCRIPTION:This "teach-in" led by Department of Communication faculty offe
 rs students across the university a chance to learn how to deal with and t
 hink about inflammatory discourse.
LOCATION:Clark Building - C 146\, 1200 Centre Ave. Mall\, Fort Collins\, CO
 \, 80523\, United States
GEO:40.5720455;-105.08371399999999
X-APPLE-STRUCTURED-LOCATION;VALUE=URI;X-ADDRESS=1200 Centre Ave. Mall\, For
 t Collins\, CO\, 80523\, United States;X-APPLE-RADIUS=100;X-TITLE=Clark Bu
 ilding - C 146:geo:40.5720455,-105.08371399999999
END:VEVENT
BEGIN:VTIMEZONE
TZID:America/Denver
X-LIC-LOCATION:America/Denver
BEGIN:DAYLIGHT
DTSTART:20190310T030000
TZOFFSETFROM:-0700
TZOFFSETTO:-0600
TZNAME:MDT
END:DAYLIGHT
END:VTIMEZONE
END:VCALENDAR