BEGIN:VCALENDAR
VERSION:2.0
PRODID:-//wp-events-plugin.com//7.2.3.1//EN
TZID:America/Denver
X-WR-TIMEZONE:America/Denver
BEGIN:VEVENT
UID:1-18027@libarts.colostate.edu
DTSTART;TZID=America/Denver:20231018T150000
DTEND;TZID=America/Denver:20231018T163000
DTSTAMP:20231009T195125Z
URL:https://www.libarts.colostate.edu/events/insights-democracy/
SUMMARY:Insights: Democracy
DESCRIPTION:This month\, CLA’s “Insights” Speaker Series celebrates t
 he CSU Thematic Year of Democracy. Join us for brief\, exciting presentati
 ons followed by a Q&A to generate discussion and stimulate ideas that high
 light the value of the liberal arts. Students\, faculty\, alumni and membe
 rs of the community are welcome to attend this free event. Refreshments pr
 ovided\, and no RSVP required!
ATTACH;FMTTYPE=image/jpeg:https://www.libarts.colostate.edu/wp-content/upl
 oads/2023/10/Insights-October-Instagram-Post.png
CATEGORIES:College of Liberal Arts Featured Events,Dean's Office
 Events,Democracy and Civic Engagement
LOCATION:LSC 390\, 1101 Center Ave Mall\, Fort Collins\, CO\, 80521\, Unite
 d States
GEO:40.574886;-105.084673
X-APPLE-STRUCTURED-LOCATION;VALUE=URI;X-ADDRESS=1101 Center Ave Mall\, Fort
  Collins\, CO\, 80521\, United States;X-APPLE-RADIUS=100;X-TITLE=LSC 390:g
 eo:40.574886,-105.084673
END:VEVENT
BEGIN:VTIMEZONE
TZID:America/Denver
X-LIC-LOCATION:America/Denver
BEGIN:DAYLIGHT
DTSTART:20230312T030000
TZOFFSETFROM:-0700
TZOFFSETTO:-0600
TZNAME:MDT
END:DAYLIGHT
END:VTIMEZONE
END:VCALENDAR