BEGIN:VCALENDAR
VERSION:2.0
PRODID:-//wp-events-plugin.com//7.2.3.1//EN
TZID:America/Denver
X-WR-TIMEZONE:America/Denver
BEGIN:VEVENT
UID:1-17182@libarts.colostate.edu
DTSTART;TZID=America/Denver:20221103T183000
DTEND;TZID=America/Denver:20221103T203000
DTSTAMP:20220809T223451Z
URL:https://www.libarts.colostate.edu/events/great-conversations-energy-te
 chnologies-in-cultural-contexts/
SUMMARY:Great Conversations: Energy Technologies in Cultural Contexts
DESCRIPTION:Energy Technologies in Cultural Contexts\nPresented by Lynn Bad
 ia\, Ph.D.\, assistant professor of English\n\nDate: Thursday\, Nov. 3\, 2
 022\, 6:30 - 8:30 p.m.\nLocation: TBD\n\nGreat Conversations member only e
 vent. Learn more about Great Conversations Membership 
CATEGORIES:College of Liberal Arts Featured Events
END:VEVENT
BEGIN:VTIMEZONE
TZID:America/Denver
X-LIC-LOCATION:America/Denver
BEGIN:DAYLIGHT
DTSTART:20220313T030000
TZOFFSETFROM:-0700
TZOFFSETTO:-0600
TZNAME:MDT
END:DAYLIGHT
END:VTIMEZONE
END:VCALENDAR