BEGIN:VCALENDAR
VERSION:2.0
PRODID:-//wp-events-plugin.com//7.2.3.1//EN
TZID:America/Denver
X-WR-TIMEZONE:America/Denver
BEGIN:VEVENT
UID:1-16307@libarts.colostate.edu
DTSTART;TZID=America/Denver:20211020T103000
DTEND;TZID=America/Denver:20211020T113000
DTSTAMP:20210823T193141Z
URL:https://www.libarts.colostate.edu/events/graduate-school-decisions-app
 lications/
SUMMARY:Graduate School Decisions &amp\; Applications
DESCRIPTION:What the Future Wednesday: Graduate School Decisions &amp\; App
 lications\nA community–building\, confidence–boosting\, myth and borin
 g–busting group workshop series designed for liberal arts students.\n\nH
 ybrid workshop: Join us in the Lory Student Center Room 120 or via Zoom\n\
 nSelect Wednesdays from 10:30-11:30am for Fall 2021\n\nRSVP: https://caree
 r.colostate.edu/events/?trumbaEmbed=view%3Devent%26eventid%3D155110465
CATEGORIES:College of Liberal Arts Featured Events
LOCATION:Lory Student Center Room 120\, 1101 Center Ave Mall\, Fort Collins
 \, Colorado\, United States
GEO:40.5747844;-105.08476969999998
X-APPLE-STRUCTURED-LOCATION;VALUE=URI;X-ADDRESS=1101 Center Ave Mall\, Fort
  Collins\, Colorado\, United States;X-APPLE-RADIUS=100;X-TITLE=Lory Studen
 t Center Room 120:geo:40.5747844,-105.08476969999998
END:VEVENT
BEGIN:VTIMEZONE
TZID:America/Denver
X-LIC-LOCATION:America/Denver
BEGIN:DAYLIGHT
DTSTART:20210314T030000
TZOFFSETFROM:-0700
TZOFFSETTO:-0600
TZNAME:MDT
END:DAYLIGHT
END:VTIMEZONE
END:VCALENDAR