BEGIN:VCALENDAR
VERSION:2.0
PRODID:-//wp-events-plugin.com//7.2.3.1//EN
TZID:America/Denver
X-WR-TIMEZONE:America/Denver
BEGIN:VEVENT
UID:1-18067@libarts.colostate.edu
DTSTART;TZID=America/Denver:20231114T140000
DTEND;TZID=America/Denver:20231114T153000
DTSTAMP:20231109T000305Z
URL:https://www.libarts.colostate.edu/events/equity-dialogs-curiosity-redu
 ce-polarization/
SUMMARY:Equity Dialogs: Can curiosity reduce polarization?
DESCRIPTION:Can curiosity reduce polarization?\nJoin us for coffee and conv
 ersation with Dr. Martín Carcasson about his work on how processes of con
 versation matter when addressing difficult and polarizing issues. Read his
  short piece "Why process matters: Democracy and human nature" and watch h
 is talk on "Polarity management" to prepare. Facilitated by Elizabeth Sink
 .\n\nLight lunch and refreshments provided. Please RSVP at: https://col.st
 /St4PQ\n\nThe Equity Dialogs are 90-minute conversation sessions that brin
 g faculty\, students\, and staff together around relevant and compelling t
 opics. Sessions are guided by trained facilitators and aim to provide the 
 campus community with opportunities to learn from and with each other acro
 ss our diverse perspectives and ideas. They are sponsored by the CLA Commi
 ttee for Equity Advocacy.\n\n&nbsp\;
ATTACH;FMTTYPE=image/jpeg:https://www.libarts.colostate.edu/wp-content/upl
 oads/2023/11/Equity-Dialogs-November-Slide-1.png
CATEGORIES:College of Liberal Arts Featured Events,Dean's Office Events
LOCATION:LSC 322\, Lory Student Center\, Colorado State University\, Fort C
 ollins\, CO\, United States
GEO:40.5747751;-105.0807072
X-APPLE-STRUCTURED-LOCATION;VALUE=URI;X-ADDRESS=Colorado State University\,
  Fort Collins\, CO\, United States;X-APPLE-RADIUS=100;X-TITLE=LSC 322\, Lo
 ry Student Center:geo:40.5747751,-105.0807072
END:VEVENT
BEGIN:VTIMEZONE
TZID:America/Denver
X-LIC-LOCATION:America/Denver
BEGIN:STANDARD
DTSTART:20231105T010000
TZOFFSETFROM:-0600
TZOFFSETTO:-0700
TZNAME:MST
END:STANDARD
END:VTIMEZONE
END:VCALENDAR