BEGIN:VCALENDAR
VERSION:2.0
PRODID:-//wp-events-plugin.com//7.2.3.1//EN
TZID:America/Denver
X-WR-TIMEZONE:America/Denver
BEGIN:VEVENT
UID:1-18240@libarts.colostate.edu
DTSTART;TZID=America/Denver:20240412T090000
DTEND;TZID=America/Denver:20240412T123000
DTSTAMP:20240307T195839Z
URL:https://www.libarts.colostate.edu/events/democracy-expo/
SUMMARY:Democracy Expo
DESCRIPTION:Visit with on-campus and off-campus organizations who work on d
 ifferent elements of democracy and find out how you can get involved.\nLSC
  Never No Summer\n9 am – 12:30 pm
CATEGORIES:College of Liberal Arts Featured Events,Dean's Office
 Events,Democracy and Civic Engagement
END:VEVENT
BEGIN:VTIMEZONE
TZID:America/Denver
X-LIC-LOCATION:America/Denver
BEGIN:DAYLIGHT
DTSTART:20240310T030000
TZOFFSETFROM:-0700
TZOFFSETTO:-0600
TZNAME:MDT
END:DAYLIGHT
END:VTIMEZONE
END:VCALENDAR