BEGIN:VCALENDAR
VERSION:2.0
PRODID:-//wp-events-plugin.com//7.2.3.1//EN
TZID:America/Denver
X-WR-TIMEZONE:America/Denver
BEGIN:VEVENT
UID:1-12733@libarts.colostate.edu
DTSTART;TZID=America/Denver:20180228T183000
DTEND;TZID=America/Denver:20180228T193000
DTSTAMP:20180221T213708Z
URL:https://www.libarts.colostate.edu/events/considering-graduate-school-s
 ociology-workshop/
SUMMARY:Considering Graduate School? Sociology Workshop
DESCRIPTION:\n\nConsidering Graduate School? Sociology workshop for those i
 nterested in Environment &amp\; Natural Resources\; Food\, Agriculture &am
 p\; Development\; Crime\, Law &amp\; Deviance\; Social Justice &amp\; Gove
 rnance – Wed.\, Feb. 28\, 6:30-7:30pm\, Eddy 117\, ALL majors welcome\, 
 free pizza\, RSVP encouraged at soccomm@colostate.edu
CATEGORIES:College of Liberal Arts Featured Events
LOCATION:Eddy Hall Room 117\, 1231 Center Ave Mall\, Fort Collins\, CO\, Un
 ited States
GEO:40.5719655;-105.08371469999997
X-APPLE-STRUCTURED-LOCATION;VALUE=URI;X-ADDRESS=1231 Center Ave Mall\, Fort
  Collins\, CO\, United States;X-APPLE-RADIUS=100;X-TITLE=Eddy Hall Room 11
 7:geo:40.5719655,-105.08371469999997
END:VEVENT
BEGIN:VTIMEZONE
TZID:America/Denver
X-LIC-LOCATION:America/Denver
BEGIN:STANDARD
DTSTART:20171105T010000
TZOFFSETFROM:-0600
TZOFFSETTO:-0700
TZNAME:MST
END:STANDARD
END:VTIMEZONE
END:VCALENDAR