BEGIN:VCALENDAR
VERSION:2.0
PRODID:-//wp-events-plugin.com//7.2.3.1//EN
TZID:America/Denver
X-WR-TIMEZONE:America/Denver
BEGIN:VEVENT
UID:1-16777@libarts.colostate.edu
DTSTART;TZID=America/Denver:20220223T160000
DTEND;TZID=America/Denver:20220223T170000
DTSTAMP:20220222T182250Z
URL:https://www.libarts.colostate.edu/events/community-discussion-on-housi
 ng-insecurity/
SUMMARY:Community Discussion on Housing Insecurity
DESCRIPTION:Humanity &amp\; Hospitality\nGuest speakers: Prof Michael Baxte
 r (Regis University) and Rev Paul Judson (CSU Lutheran Campus Ministries)\
 n\nJoin us for a Conversation about Housing Insecurity on the Front Range 
 with the Catholic Worker and Lutheran Campus Ministries\n\nWednesday\, Feb
 ruary 23\, 2022\n4 – 5 p.m. MST\nEddy 212\n\nQuestions? Contact Doug Fin
 n
CATEGORIES:College of Liberal Arts Featured Events
LOCATION:Eddy 212\, 500 University Ave.\, Fort Collins\, CO\, 80523\, Unite
 d States
GEO:40.5737276;-105.08427690000002
X-APPLE-STRUCTURED-LOCATION;VALUE=URI;X-ADDRESS=500 University Ave.\, Fort 
 Collins\, CO\, 80523\, United States;X-APPLE-RADIUS=100;X-TITLE=Eddy 212:g
 eo:40.5737276,-105.08427690000002
END:VEVENT
BEGIN:VTIMEZONE
TZID:America/Denver
X-LIC-LOCATION:America/Denver
BEGIN:STANDARD
DTSTART:20211107T010000
TZOFFSETFROM:-0600
TZOFFSETTO:-0700
TZNAME:MST
END:STANDARD
END:VTIMEZONE
END:VCALENDAR