BEGIN:VCALENDAR
VERSION:2.0
PRODID:-//wp-events-plugin.com//7.2.3.1//EN
TZID:America/Denver
X-WR-TIMEZONE:America/Denver
BEGIN:VEVENT
UID:1-18645@libarts.colostate.edu
DTSTART;TZID=America/Denver:20241030T160000
DTEND;TZID=America/Denver:20241030T173000
DTSTAMP:20241011T224334Z
URL:https://www.libarts.colostate.edu/events/clark-building-groundbreaking
 /
SUMMARY:Clark Building Groundbreaking
DESCRIPTION:Join us to celebrate the future of the liberal arts in a new Cl
 ark building\, the home for student success\, liberal arts research and cr
 eative excellence\, and a 21st century interdisciplinary education.\n\nHea
 r from CSU leadership\, including the president\, provost\, and dean\, whi
 le we mark this historic milestone in support of the liberal arts and unde
 rgraduate education at CSU.\n\nWednesday\, October 30\, 2024\n4 – 5:30 p
 .m.\nClark building site\n\nRegister for the Clark Groundbreaking
CATEGORIES:College of Liberal Arts Featured Events,Dean's Office Events
LOCATION:Clark Building Site\, 1200 Center Ave Mall\, Fort Collins\, Colora
 do\, United States
X-APPLE-STRUCTURED-LOCATION;VALUE=URI;X-ADDRESS=1200 Center Ave Mall\, Fort
  Collins\, Colorado\, United States;X-APPLE-RADIUS=100;X-TITLE=Clark Build
 ing Site:geo:0,0
END:VEVENT
BEGIN:VTIMEZONE
TZID:America/Denver
X-LIC-LOCATION:America/Denver
BEGIN:DAYLIGHT
DTSTART:20240310T030000
TZOFFSETFROM:-0700
TZOFFSETTO:-0600
TZNAME:MDT
END:DAYLIGHT
END:VTIMEZONE
END:VCALENDAR