BEGIN:VCALENDAR
VERSION:2.0
PRODID:-//wp-events-plugin.com//7.2.3.1//EN
TZID:America/Denver
X-WR-TIMEZONE:America/Denver
BEGIN:VEVENT
UID:1-19386@libarts.colostate.edu
DTSTART;TZID=America/Denver:20260408T150000
DTEND;TZID=America/Denver:20260408T160000
DTSTAMP:20260327T180253Z
URL:https://www.libarts.colostate.edu/events/clarc-community-building-stud
 ent-success/
SUMMARY:CLARC: CLA Community Building & Student Success
DESCRIPTION:Open meeting with the CLA Representative Council\n\nPossible Gu
 est: Associate Dean Ellie Light\n\nThis session will explore community-bui
 lding efforts within CLA and ways to support student success beyond the cl
 assroom. Topics may include student involvement\, belonging\, academic sup
 port systems\, and engagement opportunities. The conversation will focus o
 n strengthening connections within the college and how the college can hol
 d events that work on community-building specifically for CLA students. De
 an Light could give a brief run-down of what student success means within 
 the College of Liberal Arts/ the college’s goals etc.
CATEGORIES:College of Liberal Arts Featured Events
LOCATION:Jann Benson Ethics Center (Eddy 6)\, Colorado State University\, F
 ort Collins\, CO\, 80523\, United States
X-APPLE-STRUCTURED-LOCATION;VALUE=URI;X-ADDRESS=Colorado State University\,
  Fort Collins\, CO\, 80523\, United States;X-APPLE-RADIUS=100;X-TITLE=Jann
  Benson Ethics Center (Eddy 6):geo:0,0
END:VEVENT
BEGIN:VTIMEZONE
TZID:America/Denver
X-LIC-LOCATION:America/Denver
BEGIN:DAYLIGHT
DTSTART:20260308T030000
TZOFFSETFROM:-0700
TZOFFSETTO:-0600
TZNAME:MDT
END:DAYLIGHT
END:VTIMEZONE
END:VCALENDAR