BEGIN:VCALENDAR
VERSION:2.0
PRODID:-//wp-events-plugin.com//7.2.3.1//EN
TZID:America/Denver
X-WR-TIMEZONE:America/Denver
BEGIN:VEVENT
UID:1-19387@libarts.colostate.edu
DTSTART;TZID=America/Denver:20260422T170000
DTEND;TZID=America/Denver:20260422T180000
DTSTAMP:20260318T182040Z
URL:https://www.libarts.colostate.edu/events/clarc-ai-in-cla/
SUMMARY:CLARC: Artificial Intelligence in The College of Liberal Arts
DESCRIPTION:Open meeting with the CLA Representative Council\n\nCo-hosted w
 ith the College of Engineering / Engineering Representative Council\n\nGue
 st: Steve Johnson (College of Engineering staff member / UTFAB board leade
 r) + 2–3 colleagues\n\nThis will be a larger\, co-hosted AI listening se
 ssion in partnership with the Engineering College or their representative 
 college specifically. Discussion topics may include AI in academics\, how 
 AI is funded through CSU\, classroom implications\, policy concerns\, and 
 interdisciplinary collaboration. Attendance could be the biggest for this 
 event and range from 100–200 students depending on advertising efforts f
 rom both CLA and the Engineering college.
CATEGORIES:College of Liberal Arts Featured Events
LOCATION:Jann Benson Ethics Center (Eddy 6)\, Colorado State University\, F
 ort Collins\, CO\, 80523\, United States
X-APPLE-STRUCTURED-LOCATION;VALUE=URI;X-ADDRESS=Colorado State University\,
  Fort Collins\, CO\, 80523\, United States;X-APPLE-RADIUS=100;X-TITLE=Jann
  Benson Ethics Center (Eddy 6):geo:0,0
END:VEVENT
BEGIN:VTIMEZONE
TZID:America/Denver
X-LIC-LOCATION:America/Denver
BEGIN:DAYLIGHT
DTSTART:20260308T030000
TZOFFSETFROM:-0700
TZOFFSETTO:-0600
TZNAME:MDT
END:DAYLIGHT
END:VTIMEZONE
END:VCALENDAR