BEGIN:VCALENDAR
VERSION:2.0
PRODID:-//wp-events-plugin.com//7.2.3.1//EN
TZID:America/Denver
X-WR-TIMEZONE:America/Denver
BEGIN:VEVENT
UID:1-16304@libarts.colostate.edu
DTSTART;TZID=America/Denver:20210929T103000
DTEND;TZID=America/Denver:20210929T113000
DTSTAMP:20210823T192249Z
URL:https://www.libarts.colostate.edu/events/building-career-connections/
SUMMARY:Building Career Connections
DESCRIPTION:What the Future Wednesday: Building Career Connections\nA commu
 nity–building\, confidence–boosting\, myth and boring–busting group 
 workshop series designed for liberal arts students.\n\nHybrid workshop: Jo
 in us in the Lory Student Center Room 120 or via Zoom\n\nSelect Wednesdays
  from 10:30-11:30am for Fall 2021\n\nRSVP: https://career.colostate.edu/ev
 ents/?trumbaEmbed=view%3Devent%26eventid%3D155110259
CATEGORIES:College of Liberal Arts Featured Events
LOCATION:Lory Student Center Room 120\, 1101 Center Ave Mall\, Fort Collins
 \, Colorado\, United States
GEO:40.5747844;-105.08476969999998
X-APPLE-STRUCTURED-LOCATION;VALUE=URI;X-ADDRESS=1101 Center Ave Mall\, Fort
  Collins\, Colorado\, United States;X-APPLE-RADIUS=100;X-TITLE=Lory Studen
 t Center Room 120:geo:40.5747844,-105.08476969999998
END:VEVENT
BEGIN:VTIMEZONE
TZID:America/Denver
X-LIC-LOCATION:America/Denver
BEGIN:DAYLIGHT
DTSTART:20210314T030000
TZOFFSETFROM:-0700
TZOFFSETTO:-0600
TZNAME:MDT
END:DAYLIGHT
END:VTIMEZONE
END:VCALENDAR