BEGIN:VCALENDAR
VERSION:2.0
PRODID:-//wp-events-plugin.com//7.2.3.1//EN
TZID:America/Denver
X-WR-TIMEZONE:America/Denver
BEGIN:VEVENT
UID:1-19145@libarts.colostate.edu
DTSTART;TZID=America/Denver:20250918T090000
DTEND;TZID=America/Denver:20250918T150000
DTSTAMP:20250911T224547Z
URL:https://www.libarts.colostate.edu/events/academic-book-publishing-info
 rmation-day/
SUMMARY:Academic Book Publishing Information Day
DESCRIPTION:Learn how to publish your first or next book with publishers fr
 om academic presses.
ATTACH;FMTTYPE=image/jpeg:https://www.libarts.colostate.edu/wp-content/upl
 oads/2025/09/Academic-Book-Publishing-Information-Day-F25-1.jpg
CATEGORIES:Dean's Office Events
LOCATION:Lory Student Center Room 308\, Center Ave Mall\, Fort Collins\, Un
 ited States
GEO:40.58526;-105.084423
X-APPLE-STRUCTURED-LOCATION;VALUE=URI;X-ADDRESS=Center Ave Mall\, Fort Coll
 ins\, United States;X-APPLE-RADIUS=100;X-TITLE=Lory Student Center Room 30
 8:geo:40.58526,-105.084423
END:VEVENT
BEGIN:VTIMEZONE
TZID:America/Denver
X-LIC-LOCATION:America/Denver
BEGIN:DAYLIGHT
DTSTART:20250309T030000
TZOFFSETFROM:-0700
TZOFFSETTO:-0600
TZNAME:MDT
END:DAYLIGHT
END:VTIMEZONE
END:VCALENDAR